BEGIN:VCALENDAR
VERSION:2.0
PRODID:-//Tri-Valley Pickleball Club - ECPv6.15.20//NONSGML v1.0//EN
CALSCALE:GREGORIAN
METHOD:PUBLISH
X-WR-CALNAME:Tri-Valley Pickleball Club
X-ORIGINAL-URL:https://trivalleypickleballclub.com
X-WR-CALDESC:Events for Tri-Valley Pickleball Club
REFRESH-INTERVAL;VALUE=DURATION:PT1H
X-Robots-Tag:noindex
X-PUBLISHED-TTL:PT1H
BEGIN:VTIMEZONE
TZID:America/Los_Angeles
BEGIN:DAYLIGHT
TZOFFSETFROM:-0800
TZOFFSETTO:-0700
TZNAME:PDT
DTSTART:20240310T100000
END:DAYLIGHT
BEGIN:STANDARD
TZOFFSETFROM:-0700
TZOFFSETTO:-0800
TZNAME:PST
DTSTART:20241103T090000
END:STANDARD
BEGIN:DAYLIGHT
TZOFFSETFROM:-0800
TZOFFSETTO:-0700
TZNAME:PDT
DTSTART:20250309T100000
END:DAYLIGHT
BEGIN:STANDARD
TZOFFSETFROM:-0700
TZOFFSETTO:-0800
TZNAME:PST
DTSTART:20251102T090000
END:STANDARD
BEGIN:DAYLIGHT
TZOFFSETFROM:-0800
TZOFFSETTO:-0700
TZNAME:PDT
DTSTART:20260308T100000
END:DAYLIGHT
BEGIN:STANDARD
TZOFFSETFROM:-0700
TZOFFSETTO:-0800
TZNAME:PST
DTSTART:20261101T090000
END:STANDARD
BEGIN:DAYLIGHT
TZOFFSETFROM:-0800
TZOFFSETTO:-0700
TZNAME:PDT
DTSTART:20270314T100000
END:DAYLIGHT
BEGIN:STANDARD
TZOFFSETFROM:-0700
TZOFFSETTO:-0800
TZNAME:PST
DTSTART:20271107T090000
END:STANDARD
END:VTIMEZONE
BEGIN:VEVENT
DTSTART;TZID=America/Los_Angeles:20250611T173000
DTEND;TZID=America/Los_Angeles:20260604T200000
DTSTAMP:20260424T084717
CREATED:20260423T152040Z
LAST-MODIFIED:20260423T152040Z
UID:7162-1749663000-1780603200@trivalleypickleballclub.com
SUMMARY:Boomer League Play W3
DESCRIPTION:Open to Active Members Only \n\nAll May Nissen Courts are Rented for League Use\nHeld at May Nissen Park in Livermore
URL:https://trivalleypickleballclub.com/event/boomer-league-play-w3-3/
LOCATION:May Nissen Park\, 685 Rincon Ave\, Livermore\, CA\, 94551\, United States
CATEGORIES:Player Development
END:VEVENT
BEGIN:VEVENT
DTSTART;TZID=America/Los_Angeles:20260313T180000
DTEND;TZID=America/Los_Angeles:20260313T213000
DTSTAMP:20260424T084717
CREATED:20260209T225059Z
LAST-MODIFIED:20260209T225610Z
UID:6786-1773424800-1773437400@trivalleypickleballclub.com
SUMMARY:TVPC Friday Happy Hour
DESCRIPTION:Longevity Winery – Soul Line Dancing \nCome enjoy a night of fun with other TVPC Members and learn how to Soul Line Dance. \nThis is open to Members and Non-Members of TVPC. \nTickets must be purchased through the winery on a first come first served basis. Tickets are required for dancers and non-dancers. \nWe will try to reserve some tables to accommodate our members. \nLongevity Wines: 2271 S Vasco Rd\, Livermore
URL:https://trivalleypickleballclub.com/event/longevity-winery-soul-line-dancing/
LOCATION:CA
CATEGORIES:Social Events
END:VEVENT
BEGIN:VEVENT
DTSTART;TZID=America/Los_Angeles:20260314T090000
DTEND;TZID=America/Los_Angeles:20260314T110000
DTSTAMP:20260424T084717
CREATED:20251217T171604Z
LAST-MODIFIED:20251217T171604Z
UID:6664-1773478800-1773486000@trivalleypickleballclub.com
SUMMARY:Introduction to Pickleball Clinic
DESCRIPTION:Open to Members and Non-Members \n\nNon-Member Cost: $25 (Includes a $25 credit towards any membership within 30 days)\nExisting Member Cost: No cost for current members of Tri-Valley Pickleball Club (Max 2 Intro Clinics per Member)\nThis is an Introductory Clinic for new players where you learn the rules\, scoring\, basic strategy and try it out with other new players\nPaddles provided during the clinic\, if needed\nPlease make sure you fill our a separate Registration Form for each person attending\nIf Paying for more than one person\, please specify all people in the comments section\nHeld at May Nissen Park in Livermore\n\nClick Here to go to the Intro to Pickleball Clinics Registration Page
URL:https://trivalleypickleballclub.com/event/introduction-to-pickleball-clinic-13/
LOCATION:May Nissen Park\, 685 Rincon Ave\, Livermore\, CA\, 94551\, United States
CATEGORIES:Player Development
END:VEVENT
BEGIN:VEVENT
DTSTART;VALUE=DATE:20260328
DTEND;VALUE=DATE:20260329
DTSTAMP:20260424T084717
CREATED:20260314T015239Z
LAST-MODIFIED:20260314T015239Z
UID:6817-1774656000-1774742399@trivalleypickleballclub.com
SUMMARY:Goodness Village Charity Tournament
DESCRIPTION:Come and play in a fun tournament for a great cause. \nMore information here
URL:https://trivalleypickleballclub.com/event/goodness-village-charity-tournament/
LOCATION:CA
CATEGORIES:Tournaments
END:VEVENT
END:VCALENDAR