BEGIN:VCALENDAR
VERSION:2.0
PRODID:-//Tri-Valley Pickleball Club - ECPv6.15.20//NONSGML v1.0//EN
CALSCALE:GREGORIAN
METHOD:PUBLISH
X-ORIGINAL-URL:https://trivalleypickleballclub.com
X-WR-CALDESC:Events for Tri-Valley Pickleball Club
REFRESH-INTERVAL;VALUE=DURATION:PT1H
X-Robots-Tag:noindex
X-PUBLISHED-TTL:PT1H
BEGIN:VTIMEZONE
TZID:America/Los_Angeles
BEGIN:DAYLIGHT
TZOFFSETFROM:-0800
TZOFFSETTO:-0700
TZNAME:PDT
DTSTART:20230312T100000
END:DAYLIGHT
BEGIN:STANDARD
TZOFFSETFROM:-0700
TZOFFSETTO:-0800
TZNAME:PST
DTSTART:20231105T090000
END:STANDARD
BEGIN:DAYLIGHT
TZOFFSETFROM:-0800
TZOFFSETTO:-0700
TZNAME:PDT
DTSTART:20240310T100000
END:DAYLIGHT
BEGIN:STANDARD
TZOFFSETFROM:-0700
TZOFFSETTO:-0800
TZNAME:PST
DTSTART:20241103T090000
END:STANDARD
BEGIN:DAYLIGHT
TZOFFSETFROM:-0800
TZOFFSETTO:-0700
TZNAME:PDT
DTSTART:20250309T100000
END:DAYLIGHT
BEGIN:STANDARD
TZOFFSETFROM:-0700
TZOFFSETTO:-0800
TZNAME:PST
DTSTART:20251102T090000
END:STANDARD
BEGIN:DAYLIGHT
TZOFFSETFROM:-0800
TZOFFSETTO:-0700
TZNAME:PDT
DTSTART:20260308T100000
END:DAYLIGHT
BEGIN:STANDARD
TZOFFSETFROM:-0700
TZOFFSETTO:-0800
TZNAME:PST
DTSTART:20261101T090000
END:STANDARD
END:VTIMEZONE
BEGIN:VEVENT
DTSTART;TZID=America/Los_Angeles:20250711T180000
DTEND;TZID=America/Los_Angeles:20250711T210000
DTSTAMP:20260424T130338
CREATED:20250610T205455Z
LAST-MODIFIED:20250610T205930Z
UID:5558-1752256800-1752267600@trivalleypickleballclub.com
SUMMARY:Trivia Night at BottleTaps
DESCRIPTION:Join us for a fun night of trivia at BottleTaps \n\nNo registration needed\n3020 Bernal Ave\, Pleasanton\nAn exciting 50/50 raffle will be held\nThe private room and lounge will be reserved for TVPC
URL:https://trivalleypickleballclub.com/event/trivia-night-at-bottletaps/
CATEGORIES:Social Events
END:VEVENT
BEGIN:VEVENT
DTSTART;TZID=America/Los_Angeles:20250627T170000
DTEND;TZID=America/Los_Angeles:20250627T200000
DTSTAMP:20260424T130338
CREATED:20250103T023828Z
LAST-MODIFIED:20250618T170338Z
UID:4782-1751043600-1751054400@trivalleypickleballclub.com
SUMMARY:Friday Night Social
DESCRIPTION:Open to Active Members Only \n\nThis is a Potluck Social Event where you can bring a dish to share\, meet other members and play some pickleball\nAll May Nissen courts are rented for our use\nPlease make sure you fill our a separate Registration Form for each person attending\nHeld at May Nissen Park in Livermore from 5:PM  – 8:PM\n\nRegistration is Open Here
URL:https://trivalleypickleballclub.com/event/friday-night-social-4/
LOCATION:May Nissen Park\, 685 Rincon Ave\, Livermore\, CA\, 94551\, United States
CATEGORIES:Social Events
END:VEVENT
BEGIN:VEVENT
DTSTART;TZID=America/Los_Angeles:20250530T173000
DTEND;TZID=America/Los_Angeles:20250530T200000
DTSTAMP:20260424T130338
CREATED:20250103T023827Z
LAST-MODIFIED:20250526T210108Z
UID:4781-1748626200-1748635200@trivalleypickleballclub.com
SUMMARY:Friday Night Potluck Social (Full)
DESCRIPTION:Open to Active Members Only (Full) \n\nThis is a Potluck Social Event where you can bring a dish to share\, meet other members and play some pickleball\nFor this first Friday Night Social\, the TVPC will provide hamburgers\, buns and condiments (cheese\, lettuce\, tomatoes\, ketchup\, mustard and relish). Attendees are welcome to bring salads\, side dishes or desserts\nAll May Nissen courts are rented for our use\nPlease make sure you fill our a separate Registration Form for each person attending\nHeld at May Nissen Park in Livermore\n\nDetailed Information: Here
URL:https://trivalleypickleballclub.com/event/friday-night-social-3/
LOCATION:May Nissen Park\, 685 Rincon Ave\, Livermore\, CA\, 94551\, United States
CATEGORIES:Social Events
END:VEVENT
BEGIN:VEVENT
DTSTART;TZID=America/Los_Angeles:20250518T100000
DTEND;TZID=America/Los_Angeles:20250518T170000
DTSTAMP:20260424T130338
CREATED:20250511T010500Z
LAST-MODIFIED:20250511T011113Z
UID:5439-1747562400-1747587600@trivalleypickleballclub.com
SUMMARY:Livermore Downtown Street Fest
DESCRIPTION:Stop by our Booth – Near Uncle Yu’s on South Livermore \n\nSaturday 10:AM – 6:PM\nSunday 10:AM – 5:PM\n\nInformation Here
URL:https://trivalleypickleballclub.com/event/livermore-downtown-street-fest-2/
CATEGORIES:Social Events
END:VEVENT
BEGIN:VEVENT
DTSTART;TZID=America/Los_Angeles:20250517T100000
DTEND;TZID=America/Los_Angeles:20250517T180000
DTSTAMP:20260424T130338
CREATED:20250511T010340Z
LAST-MODIFIED:20250511T010809Z
UID:5437-1747476000-1747504800@trivalleypickleballclub.com
SUMMARY:Livermore Downtown Street Fest
DESCRIPTION:Stop by our Booth – Near Uncle Yu’s on South Livermore \n\nSaturday 10:AM – 6:PM\nSunday 10:AM – 5:PM\n\nInformation Here
URL:https://trivalleypickleballclub.com/event/livermore-downtown-street-fest/
CATEGORIES:Social Events
END:VEVENT
BEGIN:VEVENT
DTSTART;TZID=America/Los_Angeles:20250516T150000
DTEND;TZID=America/Los_Angeles:20250516T210000
DTSTAMP:20260424T130338
CREATED:20250507T020107Z
LAST-MODIFIED:20250507T020330Z
UID:5407-1747407600-1747429200@trivalleypickleballclub.com
SUMMARY:Happy Hour (Del Valle)
DESCRIPTION:We’ll meet at May Nissen to start open play for all levels by 3:PM\, then when your ready to relax\, we will head over to Del Valle Winery in Livermore for Drinks\, Food and Live Music. (delvallewinery.com) \nCan’t make it for games but want to hang with us at Del Valle\, come on over! Playing somewhere else and want to meet us there\, then come on over. You don’t have be a TVPC member to join us either. Let’s Be Social! \nNo Registration Required
URL:https://trivalleypickleballclub.com/event/happy-hour-del-valle/
CATEGORIES:Social Events
END:VEVENT
BEGIN:VEVENT
DTSTART;TZID=America/Los_Angeles:20250405T170000
DTEND;TZID=America/Los_Angeles:20250405T200000
DTSTAMP:20260424T130338
CREATED:20240111T195124Z
LAST-MODIFIED:20250404T140617Z
UID:2874-1743872400-1743883200@trivalleypickleballclub.com
SUMMARY:Hotdog and Chips Social
DESCRIPTION:TVPC Active Membership is required. \nBring your own beverage\, chair and shade. Enjoying some pickleball with other members. TVPC will provide hotdogs and chips. \nRegistration will open four weeks before the event. \nRegistration Closed
URL:https://trivalleypickleballclub.com/event/friday-potluck-social/
LOCATION:May Nissen Park\, 685 Rincon Ave\, Livermore\, CA\, 94551\, United States
CATEGORIES:Social Events
END:VEVENT
BEGIN:VEVENT
DTSTART;TZID=America/Los_Angeles:20250329T180000
DTEND;TZID=America/Los_Angeles:20250329T220000
DTSTAMP:20260424T130338
CREATED:20250301T052412Z
LAST-MODIFIED:20250328T015932Z
UID:4973-1743271200-1743285600@trivalleypickleballclub.com
SUMMARY:TVPC Crab Feed (Registration Closed)
DESCRIPTION:Join us for a fun night of great food and entertainment: \n\nPayment Options: PayPal\, Venmo\, Debit or Credit\nPayment and Registration (Closed)\nLocation: Monica’s Restaurant in Livermore (2074 Second Street)\nDate: Saturday\, March 29\nTime: 6-10 PM\nMusic: Live\nRSVP: By March 17\nOpen To: TVPC Members and Guests\nCost: Dinner only – $75 or Dinner and Drinks – $95\nRaffle Basket: Tickets $5 (Purchase at event)
URL:https://trivalleypickleballclub.com/event/tvpc-crab-feed/
CATEGORIES:Social Events
END:VEVENT
BEGIN:VEVENT
DTSTART;TZID=America/Los_Angeles:20250316T090000
DTEND;TZID=America/Los_Angeles:20250316T110000
DTSTAMP:20260424T130338
CREATED:20250103T025815Z
LAST-MODIFIED:20250307T045824Z
UID:4788-1742115600-1742122800@trivalleypickleballclub.com
SUMMARY:Skills and Drills Rescheduled
DESCRIPTION:This event has been cancelled due to Rain. \nOpen to Active Members Only (Currently Full) \n\nCost: $10 (Membership levels discounts apply)\nHone and improve your skills while learning new and fun ways to do just that\nAll May Nissen courts are rented for this event\nPlease make sure you fill our a separate Registration Form for each person attending\nIf Paying for more than one person\, please specify all people in the comments section\nHeld at May Nissen Park in Livermore
URL:https://trivalleypickleballclub.com/event/skills-and-drills/
LOCATION:May Nissen Park\, 685 Rincon Ave\, Livermore\, CA\, 94551\, United States
CATEGORIES:Social Events
END:VEVENT
BEGIN:VEVENT
DTSTART;TZID=America/Los_Angeles:20250314T170000
DTEND;TZID=America/Los_Angeles:20250314T200000
DTSTAMP:20260424T130338
CREATED:20250129T025553Z
LAST-MODIFIED:20250307T152832Z
UID:4857-1741971600-1741982400@trivalleypickleballclub.com
SUMMARY:Friday Social Brewery and Trivia Night
DESCRIPTION:Bottle Taps in Pleasanton \n\n3020 Bernal Ave\, Suite 160\nJoin us for a fun night with Trivia
URL:https://trivalleypickleballclub.com/event/friday-social-brewery-night/
CATEGORIES:Social Events
END:VEVENT
BEGIN:VEVENT
DTSTART;TZID=America/Los_Angeles:20250213T170000
DTEND;TZID=America/Los_Angeles:20250213T200000
DTSTAMP:20260424T130338
CREATED:20241213T205008Z
LAST-MODIFIED:20250107T205438Z
UID:4764-1739466000-1739476800@trivalleypickleballclub.com
SUMMARY:Page Mill Fundraiser
DESCRIPTION:Join us for a wonderful evening of Wine and Fun with some of the proceeds going to TVPC.
URL:https://trivalleypickleballclub.com/event/page-mill-fundraiser/
LOCATION:Page Mill Winery\, 1960 S Livermore Ave\, Livermore\, CA\, 94550\, United States
CATEGORIES:Social Events
END:VEVENT
BEGIN:VEVENT
DTSTART;TZID=America/Los_Angeles:20250202T090000
DTEND;TZID=America/Los_Angeles:20250202T110000
DTSTAMP:20260424T130338
CREATED:20241213T185435Z
LAST-MODIFIED:20250201T021223Z
UID:4758-1738486800-1738494000@trivalleypickleballclub.com
SUMMARY:Pickle and Pastries (Cancelled Due to Weather)
DESCRIPTION:Unfortunately\, out of an abundance of caution\, we have decided to cancel this event due to the impending weather. \n\nActive (Paid / Renewed) Members Only\nRegistration coming soon (Early January)
URL:https://trivalleypickleballclub.com/event/pickle-and-pastries/
LOCATION:May Nissen Park\, 685 Rincon Ave\, Livermore\, CA\, 94551\, United States
CATEGORIES:Social Events
END:VEVENT
BEGIN:VEVENT
DTSTART;TZID=America/Los_Angeles:20250124T180000
DTEND;TZID=America/Los_Angeles:20250124T210000
DTSTAMP:20260424T130338
CREATED:20241213T184547Z
LAST-MODIFIED:20241213T204707Z
UID:4756-1737741600-1737752400@trivalleypickleballclub.com
SUMMARY:Happy Hour at Del Valle
DESCRIPTION:Join us for an optional afternoon of Pickleball and an evening of Music and Drink \n\nPickleball at May Nissen from 3:PM – 5:PM (Optional)\nMeet at Del Valle Winery between 6:PM and 9:PM\nNo registration required
URL:https://trivalleypickleballclub.com/event/happy-hour-at-del-valle/
LOCATION:Del Valle Winery\, 4948 Tesla Rd\, Livermore\, CA\, 94550\, United States
CATEGORIES:Social Events
END:VEVENT
BEGIN:VEVENT
DTSTART;TZID=America/Los_Angeles:20250109T183000
DTEND;TZID=America/Los_Angeles:20250109T203000
DTSTAMP:20260424T130338
CREATED:20241213T181733Z
LAST-MODIFIED:20241214T221832Z
UID:4748-1736447400-1736454600@trivalleypickleballclub.com
SUMMARY:Paint and Sip
DESCRIPTION:Join other members and guests at this fun event: \n\nSave $5 as a TVPC Member\nContact Deb Halford (408.203.0774) with any questions
URL:https://trivalleypickleballclub.com/event/paint-and-sip/
CATEGORIES:Social Events
END:VEVENT
BEGIN:VEVENT
DTSTART;TZID=America/Los_Angeles:20241210T180000
DTEND;TZID=America/Los_Angeles:20241210T220000
DTSTAMP:20260424T130338
CREATED:20240813T032053Z
LAST-MODIFIED:20241119T032338Z
UID:3976-1733853600-1733868000@trivalleypickleballclub.com
SUMMARY:Holiday Potluck Dinner Celebration
DESCRIPTION:Our annual holiday party is scheduled for Tuesday\, Dec 10th. We will share a fun social evening with your fellow members. \nWe will be holding this at the Palm Events Center in Pleasanton (near Ruby Hill) \nMore details are available on the Registration Page.
URL:https://trivalleypickleballclub.com/event/holiday-party-save-the-date/
CATEGORIES:Social Events
END:VEVENT
BEGIN:VEVENT
DTSTART;TZID=America/Los_Angeles:20241106T180000
DTEND;TZID=America/Los_Angeles:20241106T210000
DTSTAMP:20260424T130338
CREATED:20240122T194907Z
LAST-MODIFIED:20241009T032707Z
UID:2941-1730916000-1730926800@trivalleypickleballclub.com
SUMMARY:Volunteer Appreciation Dinner
DESCRIPTION:Save the Date \n  \nOpen to active members who have volunteered for our activities. \nEach year we like to thank those who have given their time to help make the club happen. We provide dinner and special awards.
URL:https://trivalleypickleballclub.com/event/volunteer-appreciation-dinner/
LOCATION:IOOF Lodge Livermore\, 2160 First St.\, Livermore\, CA\, 94550\, United States
CATEGORIES:Social Events
END:VEVENT
BEGIN:VEVENT
DTSTART;TZID=America/Los_Angeles:20240927T170000
DTEND;TZID=America/Los_Angeles:20240927T200000
DTSTAMP:20260424T130338
CREATED:20240111T201002Z
LAST-MODIFIED:20240925T202214Z
UID:2890-1727456400-1727467200@trivalleypickleballclub.com
SUMMARY:Friday Night Chili Bar Social
DESCRIPTION:TVPC Active Membership is Required: \n\nAll Friday socials are held at May Nissen Park in Livermore and we reserve the courts for our members\nStarts at 5:PM and runs until 8:PM.\nCost is $5 per person\n5-6 Volunteers needed to make a pot of chili for 10-12 servings – Please sign up below\nTVPC will provide Chili and cornbread\nRegister  Here: Please enable JavaScript in your browser to complete this form.Choose Event *Please Choose One06/14 Dinkin DonutsSelect the event for which you would like to registerDish You Will BringSelect OneSelect OneEntreSideSaladDessertSimple Description of Your DishWould you be able to help Setup or Takedown (Tables\, Tents\, Nets or Food) *YesNoIf Yes\, we will contact you through the SignUp app for details and confirmation.Comment or MessageCost of this EventPrice: $0.00Select Payment *PayPal CheckoutCredit CardCard NumberExpiration DateSecurity CodeCard Holder NameSubmit
URL:https://trivalleypickleballclub.com/event/friday-potluck-social-6/
CATEGORIES:Social Events
END:VEVENT
BEGIN:VEVENT
DTSTART;TZID=America/Los_Angeles:20240902T080000
DTEND;TZID=America/Los_Angeles:20240902T160000
DTSTAMP:20260424T130338
CREATED:20240823T032440Z
LAST-MODIFIED:20240823T032440Z
UID:4057-1725264000-1725292800@trivalleypickleballclub.com
SUMMARY:Labor Day Play
DESCRIPTION:Pickleball in the Morning … Music and Wine and Food in the Afternoon (1:PM – 4:PM) \n– Del Valle Winery in Livermore\, Join us even if you don’t play pickleball in the morning. \n– Musical group is called Ruff Stock and one of our members will be playing in the band
URL:https://trivalleypickleballclub.com/event/labor-day-play/
CATEGORIES:Social Events
END:VEVENT
BEGIN:VEVENT
DTSTART;TZID=America/Los_Angeles:20240823T170000
DTEND;TZID=America/Los_Angeles:20240823T200000
DTSTAMP:20260424T130338
CREATED:20240111T200802Z
LAST-MODIFIED:20240806T214813Z
UID:2888-1724432400-1724443200@trivalleypickleballclub.com
SUMMARY:Friday Potluck Social (Cancelled)
DESCRIPTION:Unfortunately\, this event has been cancelled. Our apologies for the inconvenience. \nTVPC Active Membership is required. \nAll Friday socials are held at May Nissen Park in Livermore and we reserve the courts for our members. Starts at 5:PM and runs until 8:PM. \nBring a dish to share\, while meeting and enjoying some pickleball with other members.
URL:https://trivalleypickleballclub.com/event/friday-potluck-social-5/
CATEGORIES:Social Events
END:VEVENT
BEGIN:VEVENT
DTSTART;TZID=America/Los_Angeles:20240802T150000
DTEND;TZID=America/Los_Angeles:20240802T210000
DTSTAMP:20260424T130338
CREATED:20240430T010543Z
LAST-MODIFIED:20240717T031836Z
UID:3299-1722610800-1722632400@trivalleypickleballclub.com
SUMMARY:Happy Hour Pickleball (Retzlaff)
DESCRIPTION:We’ll meet at May Nissen to start open play for all levels by 3:PM\, then when your ready to relax\, we will head over to Retzlaff Winery in Livermore for Wine Down Fridays (open from 5-8pm). retzlaffvineyards.com Live Music\, Dancing\, Wines by the glass or bottle\, Food Truck (no outside food permitted for these events) \nCan’t make it for games but want to hang with us at Retzlaff\, come on over! Playing somewhere else and want to meet us there\, then come on over. You don’t have be a TVPC member to join us either. Let’s Be Social! \nNo Registration Required
URL:https://trivalleypickleballclub.com/event/happy-hour-pickleball/
CATEGORIES:Social Events
END:VEVENT
BEGIN:VEVENT
DTSTART;TZID=America/Los_Angeles:20240726T170000
DTEND;TZID=America/Los_Angeles:20240726T200000
DTSTAMP:20260424T130338
CREATED:20240111T200547Z
LAST-MODIFIED:20240610T013644Z
UID:2886-1722013200-1722024000@trivalleypickleballclub.com
SUMMARY:Friday Potluck Social
DESCRIPTION:TVPC Active Membership is required. \nAll Friday socials are held at May Nissen Park in Livermore and we reserve the courts for our members. Starts at 5:PM and runs until 8:PM. \nBring a dish to share\, while meeting and enjoying some pickleball with other members. \nRegister  Here: Please enable JavaScript in your browser to complete this form.Choose Event *Please Choose One06/14 Dinkin DonutsSelect the event for which you would like to registerDish You Will BringSelect OneSelect OneEntreSideSaladDessertSimple Description of Your DishWould you be able to help Setup or Takedown (Tables\, Tents\, Nets or Food) *YesNoIf Yes\, we will contact you through the SignUp app for details and confirmation.Comment or MessageCost of this EventPrice: $0.00Select Payment *PayPal CheckoutCredit CardCard NumberExpiration DateSecurity CodeCard Holder NameSubmit
URL:https://trivalleypickleballclub.com/event/friday-potluck-social-4/
CATEGORIES:Social Events
END:VEVENT
BEGIN:VEVENT
DTSTART;TZID=America/Los_Angeles:20240719T160000
DTEND;TZID=America/Los_Angeles:20240719T180000
DTSTAMP:20260424T130338
CREATED:20240521T015257Z
LAST-MODIFIED:20240703T142752Z
UID:3398-1721404800-1721412000@trivalleypickleballclub.com
SUMMARY:Happy Hour Pickleball (Del Valle)
DESCRIPTION:We’ll meet at May Nissen to start open play for all levels by 3:PM\, then when your ready to relax\, we will head over to Del Valle Winery in Livermore from 6-9:PM. \nCan’t make it for games but want to hang with us at Del Valle Winery\, come on over! Playing somewhere else and want to meet us there\, then come on over. You don’t have be a TVPC member to join us either. Let’s Be Social! \nNo Registration Required
URL:https://trivalleypickleballclub.com/event/3398/
LOCATION:May Nissen Park\, 685 Rincon Ave\, Livermore\, CA\, 94551\, United States
CATEGORIES:Social Events
END:VEVENT
BEGIN:VEVENT
DTSTART;TZID=America/Los_Angeles:20240628T170000
DTEND;TZID=America/Los_Angeles:20240628T200000
DTSTAMP:20260424T130338
CREATED:20240111T200407Z
LAST-MODIFIED:20240627T153556Z
UID:2884-1719594000-1719604800@trivalleypickleballclub.com
SUMMARY:Friday Taco Bar Social (Full)
DESCRIPTION:TVPC Active Membership is required. This event is full. \nWe will provide a Taco Bar for your enjoyment\, while meeting and enjoying some pickleball with other members. \nAll Friday socials are held at May Nissen Park in Livermore and we reserve the courts for our members. Starts at 5:PM and runs until 8:PM. \nThere is a $5 fee to cover the food: \nPayment Options:\n– Venmo (Preferred) @TriValleyPickleballClub (Code: 8657) – Please DO NOT specify Purchase Protection or a Business\, or\n– Check – Made out to Tri-Valley Pickleball Club\, P.O. Box 2212\, Livermore\, CA 94551
URL:https://trivalleypickleballclub.com/event/friday-potluck-social-3/
CATEGORIES:Social Events
END:VEVENT
BEGIN:VEVENT
DTSTART;TZID=America/Los_Angeles:20240531T170000
DTEND;TZID=America/Los_Angeles:20240531T200000
DTSTAMP:20260424T130338
CREATED:20240111T195459Z
LAST-MODIFIED:20240111T202424Z
UID:2878-1717174800-1717185600@trivalleypickleballclub.com
SUMMARY:Friday Potluck Social
DESCRIPTION:TVPC Active Membership is required. \nBring a dish to share\, while meeting and enjoying some pickleball with other members. \nRegister  Here: Please enable JavaScript in your browser to complete this form.Choose Event *Please Choose One06/14 Dinkin DonutsSelect the event for which you would like to registerDish You Will BringSelect OneSelect OneEntreSideSaladDessertSimple Description of Your DishWould you be able to help Setup or Takedown (Tables\, Tents\, Nets or Food) *YesNoIf Yes\, we will contact you through the SignUp app for details and confirmation.Comment or MessageCost of this EventPrice: $0.00Select Payment *PayPal CheckoutCredit CardCard NumberExpiration DateSecurity CodeCard Holder NameSubmit
URL:https://trivalleypickleballclub.com/event/friday-potluck-social-2/
CATEGORIES:Social Events
END:VEVENT
BEGIN:VEVENT
DTSTART;TZID=America/Los_Angeles:20240519T080000
DTEND;TZID=America/Los_Angeles:20240519T110000
DTSTAMP:20260424T130338
CREATED:20240215T053949Z
LAST-MODIFIED:20240513T000904Z
UID:3042-1716105600-1716116400@trivalleypickleballclub.com
SUMMARY:Pickles and Popcorn (Cancelled)
DESCRIPTION:Due to low signups\, this event has been cancelled. \nJoin us for a fun morning of pickleball and enjoy some popcorn (and other possible treats) during the morning that the club will provide. \n\nDate: Sunday\, May 19th\nTime: 8:AM – 11:AM\nLocation: May Nissen Park in Livermore
URL:https://trivalleypickleballclub.com/event/pickles-and-popcorn/
LOCATION:May Nissen Park\, 685 Rincon Ave\, Livermore\, CA\, 94551\, United States
CATEGORIES:Social Events
END:VEVENT
BEGIN:VEVENT
DTSTART;TZID=America/Los_Angeles:20240210T090000
DTEND;TZID=America/Los_Angeles:20240210T110000
DTSTAMP:20260424T130338
CREATED:20240111T191539Z
LAST-MODIFIED:20240131T182055Z
UID:2868-1707555600-1707562800@trivalleypickleballclub.com
SUMMARY:Pickles & Pastries (Full)
DESCRIPTION:TVPC Active Membership is required. \nJoin us for a fun morning of pickleball and enjoy some bagels and pastries that the club will provide. \n\nDate: Saturday\, Feb 10th\nTime: 9:AM – 11:AM\nLocation: May Nissen Park in Livermore\n\nRegistration Currently Full
URL:https://trivalleypickleballclub.com/event/pickles-pastries/
LOCATION:May Nissen Park\, 685 Rincon Ave\, Livermore\, CA\, 94551\, United States
CATEGORIES:Social Events
END:VEVENT
END:VCALENDAR